Package: Uniquorn Version: 2.26.0 Command: /home/biocbuild/bbs-3.20-bioc/R/bin/R CMD INSTALL Uniquorn StartedAt: 2025-02-10 15:30:27 -0500 (Mon, 10 Feb 2025) EndedAt: 2025-02-10 15:31:04 -0500 (Mon, 10 Feb 2025) EllapsedTime: 37.4 seconds RetCode: 0 Status: OK