Package: Uniquorn Version: 2.26.0 Command: chmod a+r Uniquorn -R && F:\biocbuild\bbs-3.20-bioc\R\bin\R.exe CMD build --keep-empty-dirs --no-resave-data Uniquorn StartedAt: 2025-02-03 22:44:42 -0500 (Mon, 03 Feb 2025) EndedAt: 2025-02-03 22:45:37 -0500 (Mon, 03 Feb 2025) EllapsedTime: 55.0 seconds RetCode: 0 Status: OK PackageFile: Uniquorn_2.26.0.tar.gz PackageFileSize: 2.196 MiB