Package: Uniquorn Version: 2.26.0 Command: /home/biocbuild/R/R/bin/R CMD build --keep-empty-dirs --no-resave-data Uniquorn StartedAt: 2025-02-11 03:17:17 -0000 (Tue, 11 Feb 2025) EndedAt: 2025-02-11 03:18:06 -0000 (Tue, 11 Feb 2025) EllapsedTime: 49.0 seconds RetCode: 0 Status: OK PackageFile: Uniquorn_2.26.0.tar.gz PackageFileSize: 2.196 MiB