Package: Uniquorn Version: 2.26.0 Command: /home/biocbuild/R/R/bin/R CMD check --install=check:Uniquorn.install-out.txt --library=/home/biocbuild/R/R/site-library --no-vignettes --timings Uniquorn_2.26.0.tar.gz StartedAt: 2025-02-04 12:01:02 -0000 (Tue, 04 Feb 2025) EndedAt: 2025-02-04 12:06:47 -0000 (Tue, 04 Feb 2025) EllapsedTime: 345.6 seconds RetCode: 0 Status: OK CheckDir: Uniquorn.Rcheck Warnings: 0