Package: Uniquorn Version: 2.26.0 Command: /home/biocbuild/R/R/bin/R CMD INSTALL Uniquorn StartedAt: 2025-02-03 20:43:08 -0000 (Mon, 03 Feb 2025) EndedAt: 2025-02-03 20:43:56 -0000 (Mon, 03 Feb 2025) EllapsedTime: 47.9 seconds RetCode: 0 Status: OK