Package: VAExprs Version: 1.12.0 Command: /Library/Frameworks/R.framework/Resources/bin/R CMD build --keep-empty-dirs --no-resave-data VAExprs StartedAt: 2025-01-31 09:59:40 -0500 (Fri, 31 Jan 2025) EndedAt: 2025-01-31 10:00:33 -0500 (Fri, 31 Jan 2025) EllapsedTime: 53.2 seconds RetCode: 0 Status: OK PackageFile: VAExprs_1.12.0.tar.gz PackageFileSize: 561.7 KiB