Package: VAExprs Version: 1.12.0 Command: /Library/Frameworks/R.framework/Resources/bin/R CMD check --install=check:VAExprs.install-out.txt --library=/Library/Frameworks/R.framework/Resources/library --no-vignettes --timings VAExprs_1.12.0.tar.gz StartedAt: 2025-02-01 12:56:09 -0500 (Sat, 01 Feb 2025) EndedAt: 2025-02-01 13:00:55 -0500 (Sat, 01 Feb 2025) EllapsedTime: 286.8 seconds RetCode: 0 Status: OK CheckDir: VAExprs.Rcheck Warnings: 0