Package: VAExprs Version: 1.12.0 Command: /Library/Frameworks/R.framework/Resources/bin/R CMD build --keep-empty-dirs --no-resave-data VAExprs StartedAt: 2025-01-30 23:37:28 -0500 (Thu, 30 Jan 2025) EndedAt: 2025-01-30 23:41:38 -0500 (Thu, 30 Jan 2025) EllapsedTime: 250.4 seconds RetCode: 0 Status: OK PackageFile: VAExprs_1.12.0.tar.gz PackageFileSize: 2.229 MiB