Package: VAExprs Version: 1.12.0 Command: /Library/Frameworks/R.framework/Resources/bin/R CMD check --install=check:VAExprs.install-out.txt --library=/Library/Frameworks/R.framework/Resources/library --no-vignettes --timings VAExprs_1.12.0.tar.gz StartedAt: 2025-01-31 11:37:44 -0500 (Fri, 31 Jan 2025) EndedAt: 2025-01-31 11:47:05 -0500 (Fri, 31 Jan 2025) EllapsedTime: 560.3 seconds RetCode: 0 Status: OK CheckDir: VAExprs.Rcheck Warnings: 0