Package: VAExprs Version: 1.12.0 Command: chmod a+r VAExprs -R && F:\biocbuild\bbs-3.20-bioc\R\bin\R.exe CMD build --keep-empty-dirs --no-resave-data VAExprs StartedAt: 2025-01-30 22:27:47 -0500 (Thu, 30 Jan 2025) EndedAt: 2025-01-30 22:28:49 -0500 (Thu, 30 Jan 2025) EllapsedTime: 61.7 seconds RetCode: 1 Status: ERROR PackageFile: None PackageFileSize: NA