Package: VAExprs Version: 1.12.0 Command: /home/biocbuild/R/R/bin/R CMD build --keep-empty-dirs --no-resave-data VAExprs StartedAt: 2025-01-31 03:22:48 -0000 (Fri, 31 Jan 2025) EndedAt: 2025-01-31 03:23:59 -0000 (Fri, 31 Jan 2025) EllapsedTime: 71.1 seconds RetCode: 1 Status: ERROR PackageFile: None PackageFileSize: NA