Package: VERSO Version: 1.16.0 Command: /Library/Frameworks/R.framework/Resources/bin/R CMD INSTALL VERSO StartedAt: 2025-02-10 16:20:14 -0500 (Mon, 10 Feb 2025) EndedAt: 2025-02-10 16:20:18 -0500 (Mon, 10 Feb 2025) EllapsedTime: 3.5 seconds RetCode: 0 Status: OK