Package: VERSO Version: 1.16.0 Command: rm -rf VERSO.buildbin-libdir && mkdir VERSO.buildbin-libdir && /Users/biocbuild/BBS/utils/build-universal.sh VERSO_1.16.0.tar.gz /Library/Frameworks/R.framework/Resources/bin/R VERSO.buildbin-libdir StartedAt: 2025-02-11 14:47:07 -0500 (Tue, 11 Feb 2025) EndedAt: 2025-02-11 14:47:15 -0500 (Tue, 11 Feb 2025) EllapsedTime: 8.7 seconds RetCode: 0 Status: OK PackageFile: VERSO_1.16.0.tgz PackageFileSize: 665.4 KiB