Package: VERSO Version: 1.16.0 Command: /Library/Frameworks/R.framework/Resources/bin/R CMD build --keep-empty-dirs --no-resave-data VERSO StartedAt: 2025-02-03 23:09:48 -0500 (Mon, 03 Feb 2025) EndedAt: 2025-02-03 23:10:07 -0500 (Mon, 03 Feb 2025) EllapsedTime: 19.5 seconds RetCode: 0 Status: OK PackageFile: VERSO_1.16.0.tar.gz PackageFileSize: 626.2 KiB