Package: VERSO Version: 1.16.0 Command: /home/biocbuild/bbs-3.20-bioc/R/bin/R CMD build --keep-empty-dirs --no-resave-data --md5 VERSO StartedAt: 2025-02-03 19:46:11 -0500 (Mon, 03 Feb 2025) EndedAt: 2025-02-03 19:46:18 -0500 (Mon, 03 Feb 2025) EllapsedTime: 7.0 seconds RetCode: 0 Status: OK PackageFile: VERSO_1.16.0.tar.gz PackageFileSize: 677.9 KiB