Package: VERSO Version: 1.16.0 Command: F:\biocbuild\bbs-3.20-bioc\R\bin\R.exe CMD check --no-multiarch --install=check:VERSO.install-out.txt --library=F:\biocbuild\bbs-3.20-bioc\R\library --no-vignettes --timings VERSO_1.16.0.tar.gz StartedAt: 2025-02-04 07:26:15 -0500 (Tue, 04 Feb 2025) EndedAt: 2025-02-04 07:26:55 -0500 (Tue, 04 Feb 2025) EllapsedTime: 40.3 seconds RetCode: 0 Status: OK CheckDir: VERSO.Rcheck Warnings: 0