Package: VERSO Version: 1.16.0 Command: /home/biocbuild/R/R/bin/R CMD build --keep-empty-dirs --no-resave-data VERSO StartedAt: 2025-02-04 03:49:19 -0000 (Tue, 04 Feb 2025) EndedAt: 2025-02-04 03:49:34 -0000 (Tue, 04 Feb 2025) EllapsedTime: 15.0 seconds RetCode: 0 Status: OK PackageFile: VERSO_1.16.0.tar.gz PackageFileSize: 757.3 KiB