Package: VanillaICE Version: 1.68.0 Command: /Library/Frameworks/R.framework/Resources/bin/R CMD build --keep-empty-dirs --no-resave-data VanillaICE StartedAt: 2025-02-04 10:16:51 -0500 (Tue, 04 Feb 2025) EndedAt: 2025-02-04 10:18:15 -0500 (Tue, 04 Feb 2025) EllapsedTime: 84.4 seconds RetCode: 0 Status: OK PackageFile: VanillaICE_1.68.0.tar.gz PackageFileSize: 2.071 MiB