Package: VanillaICE Version: 1.68.0 Command: /Library/Frameworks/R.framework/Resources/bin/R CMD check --install=check:VanillaICE.install-out.txt --library=/Library/Frameworks/R.framework/Resources/library --no-vignettes --timings VanillaICE_1.68.0.tar.gz StartedAt: 2025-02-05 13:50:36 -0500 (Wed, 05 Feb 2025) EndedAt: 2025-02-05 13:55:37 -0500 (Wed, 05 Feb 2025) EllapsedTime: 301.5 seconds RetCode: 0 Status: OK CheckDir: VanillaICE.Rcheck Warnings: 0