Package: VanillaICE Version: 1.68.0 Command: /Library/Frameworks/R.framework/Resources/bin/R CMD INSTALL VanillaICE StartedAt: 2025-02-03 15:57:52 -0500 (Mon, 03 Feb 2025) EndedAt: 2025-02-03 15:58:34 -0500 (Mon, 03 Feb 2025) EllapsedTime: 42.0 seconds RetCode: 0 Status: OK