Package: VanillaICE Version: 1.68.0 Command: rm -rf VanillaICE.buildbin-libdir && mkdir VanillaICE.buildbin-libdir && /Users/biocbuild/BBS/utils/build-universal.sh VanillaICE_1.68.0.tar.gz /Library/Frameworks/R.framework/Resources/bin/R VanillaICE.buildbin-libdir StartedAt: 2025-01-31 13:54:21 -0500 (Fri, 31 Jan 2025) EndedAt: 2025-01-31 13:55:48 -0500 (Fri, 31 Jan 2025) EllapsedTime: 86.8 seconds RetCode: 0 Status: OK PackageFile: VanillaICE_1.68.0.tgz PackageFileSize: 3.003 MiB