Package: VanillaICE Version: 1.68.0 Command: /Library/Frameworks/R.framework/Resources/bin/R CMD build --keep-empty-dirs --no-resave-data VanillaICE StartedAt: 2025-02-03 23:07:05 -0500 (Mon, 03 Feb 2025) EndedAt: 2025-02-03 23:09:33 -0500 (Mon, 03 Feb 2025) EllapsedTime: 148.2 seconds RetCode: 0 Status: OK PackageFile: VanillaICE_1.68.0.tar.gz PackageFileSize: 2.071 MiB