Package: VanillaICE Version: 1.68.0 Command: /Library/Frameworks/R.framework/Resources/bin/R CMD check --install=check:VanillaICE.install-out.txt --library=/Library/Frameworks/R.framework/Resources/library --no-vignettes --timings VanillaICE_1.68.0.tar.gz StartedAt: 2025-02-04 11:44:40 -0500 (Tue, 04 Feb 2025) EndedAt: 2025-02-04 11:53:44 -0500 (Tue, 04 Feb 2025) EllapsedTime: 544.2 seconds RetCode: 0 Status: OK CheckDir: VanillaICE.Rcheck Warnings: 0