Package: VanillaICE Version: 1.68.0 Command: /home/biocbuild/bbs-3.20-bioc/R/bin/R CMD INSTALL VanillaICE StartedAt: 2025-02-03 15:32:12 -0500 (Mon, 03 Feb 2025) EndedAt: 2025-02-03 15:32:48 -0500 (Mon, 03 Feb 2025) EllapsedTime: 35.1 seconds RetCode: 0 Status: OK