Package: VarCon Version: 1.14.0 Command: /Library/Frameworks/R.framework/Resources/bin/R CMD build --keep-empty-dirs --no-resave-data VarCon StartedAt: 2025-02-04 10:17:37 -0500 (Tue, 04 Feb 2025) EndedAt: 2025-02-04 10:18:46 -0500 (Tue, 04 Feb 2025) EllapsedTime: 68.9 seconds RetCode: 0 Status: OK PackageFile: VarCon_1.14.0.tar.gz PackageFileSize: 1.89 MiB