Package: VarCon Version: 1.14.0 Command: /Library/Frameworks/R.framework/Resources/bin/R CMD check --install=check:VarCon.install-out.txt --library=/Library/Frameworks/R.framework/Resources/library --no-vignettes --timings VarCon_1.14.0.tar.gz StartedAt: 2025-02-12 13:07:52 -0500 (Wed, 12 Feb 2025) EndedAt: 2025-02-12 13:12:53 -0500 (Wed, 12 Feb 2025) EllapsedTime: 301.3 seconds RetCode: 0 Status: OK CheckDir: VarCon.Rcheck Warnings: 0