Package: VarCon Version: 1.14.0 Command: /Library/Frameworks/R.framework/Resources/bin/R CMD build --keep-empty-dirs --no-resave-data VarCon StartedAt: 2025-02-03 23:07:09 -0500 (Mon, 03 Feb 2025) EndedAt: 2025-02-03 23:09:05 -0500 (Mon, 03 Feb 2025) EllapsedTime: 116.3 seconds RetCode: 0 Status: OK PackageFile: VarCon_1.14.0.tar.gz PackageFileSize: 1.889 MiB