Package: VarCon Version: 1.14.0 Command: /Library/Frameworks/R.framework/Resources/bin/R CMD check --install=check:VarCon.install-out.txt --library=/Library/Frameworks/R.framework/Resources/library --no-vignettes --timings VarCon_1.14.0.tar.gz StartedAt: 2025-02-04 11:44:41 -0500 (Tue, 04 Feb 2025) EndedAt: 2025-02-04 11:53:24 -0500 (Tue, 04 Feb 2025) EllapsedTime: 523.1 seconds RetCode: 0 Status: OK CheckDir: VarCon.Rcheck Warnings: 0