Package: VarCon Version: 1.14.0 Command: /home/biocbuild/bbs-3.20-bioc/R/bin/R CMD build --keep-empty-dirs --no-resave-data --md5 VarCon StartedAt: 2025-02-10 19:37:28 -0500 (Mon, 10 Feb 2025) EndedAt: 2025-02-10 19:38:18 -0500 (Mon, 10 Feb 2025) EllapsedTime: 50.0 seconds RetCode: 0 Status: OK PackageFile: VarCon_1.14.0.tar.gz PackageFileSize: 1.892 MiB