Package: VarCon Version: 1.14.0 Command: /home/biocbuild/bbs-3.20-bioc/R/bin/R CMD INSTALL VarCon StartedAt: 2025-02-10 15:38:50 -0500 (Mon, 10 Feb 2025) EndedAt: 2025-02-10 15:39:26 -0500 (Mon, 10 Feb 2025) EllapsedTime: 36.4 seconds RetCode: 0 Status: OK