Package: VarCon Version: 1.14.0 Command: chmod a+r VarCon -R && F:\biocbuild\bbs-3.20-bioc\R\bin\R.exe CMD build --keep-empty-dirs --no-resave-data VarCon StartedAt: 2025-02-03 22:45:21 -0500 (Mon, 03 Feb 2025) EndedAt: 2025-02-03 22:46:29 -0500 (Mon, 03 Feb 2025) EllapsedTime: 67.9 seconds RetCode: 0 Status: OK PackageFile: VarCon_1.14.0.tar.gz PackageFileSize: 1.889 MiB