Package: VarCon Version: 1.14.0 Command: /home/biocbuild/R/R/bin/R CMD build --keep-empty-dirs --no-resave-data VarCon StartedAt: 2025-02-11 03:18:06 -0000 (Tue, 11 Feb 2025) EndedAt: 2025-02-11 03:19:10 -0000 (Tue, 11 Feb 2025) EllapsedTime: 64.0 seconds RetCode: 0 Status: OK PackageFile: VarCon_1.14.0.tar.gz PackageFileSize: 1.915 MiB