Package: VariantAnnotation Version: 1.52.0 Command: rm -rf VariantAnnotation.buildbin-libdir && mkdir VariantAnnotation.buildbin-libdir && /Users/biocbuild/BBS/utils/build-universal.sh VariantAnnotation_1.52.0.tar.gz /Library/Frameworks/R.framework/Resources/bin/R VariantAnnotation.buildbin-libdir StartedAt: 2025-01-31 13:54:23 -0500 (Fri, 31 Jan 2025) EndedAt: 2025-01-31 13:57:06 -0500 (Fri, 31 Jan 2025) EllapsedTime: 162.8 seconds RetCode: 0 Status: OK PackageFile: VariantAnnotation_1.52.0.tgz PackageFileSize: 4.402 MiB