Package: VariantAnnotation Version: 1.52.0 Command: /home/biocbuild/bbs-3.20-bioc/R/bin/R CMD check --install=check:VariantAnnotation.install-out.txt --library=/home/biocbuild/bbs-3.20-bioc/R/site-library --timings VariantAnnotation_1.52.0.tar.gz StartedAt: 2025-02-11 03:20:07 -0500 (Tue, 11 Feb 2025) EndedAt: 2025-02-11 03:29:13 -0500 (Tue, 11 Feb 2025) EllapsedTime: 545.6 seconds RetCode: 0 Status: WARNINGS CheckDir: VariantAnnotation.Rcheck Warnings: 2