Package: VariantAnnotation Version: 1.52.0 Command: rm -rf VariantAnnotation.buildbin-libdir && mkdir VariantAnnotation.buildbin-libdir && F:\biocbuild\bbs-3.20-bioc\R\bin\R.exe CMD INSTALL --build --library=VariantAnnotation.buildbin-libdir VariantAnnotation_1.52.0.tar.gz StartedAt: 2025-02-04 09:44:40 -0500 (Tue, 04 Feb 2025) EndedAt: 2025-02-04 09:48:10 -0500 (Tue, 04 Feb 2025) EllapsedTime: 209.7 seconds RetCode: 0 Status: OK PackageFile: VariantAnnotation_1.52.0.zip PackageFileSize: 8.499 MiB