Package: VariantAnnotation Version: 1.52.0 Command: chmod a+r VariantAnnotation -R && F:\biocbuild\bbs-3.20-bioc\R\bin\R.exe CMD build --keep-empty-dirs --no-resave-data VariantAnnotation StartedAt: 2025-02-03 22:45:30 -0500 (Mon, 03 Feb 2025) EndedAt: 2025-02-03 22:52:45 -0500 (Mon, 03 Feb 2025) EllapsedTime: 435.6 seconds RetCode: 0 Status: OK PackageFile: VariantAnnotation_1.52.0.tar.gz PackageFileSize: 1.967 MiB