Package: VariantAnnotation Version: 1.52.0 Command: /home/biocbuild/R/R/bin/R CMD build --keep-empty-dirs --no-resave-data VariantAnnotation StartedAt: 2025-01-31 03:23:10 -0000 (Fri, 31 Jan 2025) EndedAt: 2025-01-31 03:26:26 -0000 (Fri, 31 Jan 2025) EllapsedTime: 196.2 seconds RetCode: 0 Status: OK PackageFile: VariantAnnotation_1.52.0.tar.gz PackageFileSize: 2.055 MiB