Package: VariantAnnotation Version: 1.52.0 Command: /home/biocbuild/R/R/bin/R CMD check --install=check:VariantAnnotation.install-out.txt --library=/home/biocbuild/R/R/site-library --no-vignettes --timings VariantAnnotation_1.52.0.tar.gz StartedAt: 2025-01-31 11:22:59 -0000 (Fri, 31 Jan 2025) EndedAt: 2025-01-31 11:32:23 -0000 (Fri, 31 Jan 2025) EllapsedTime: 563.9 seconds RetCode: 0 Status: WARNINGS CheckDir: VariantAnnotation.Rcheck Warnings: 2