Package: VariantAnnotation Version: 1.52.0 Command: /home/biocbuild/R/R/bin/R CMD INSTALL VariantAnnotation StartedAt: 2025-02-03 20:41:33 -0000 (Mon, 03 Feb 2025) EndedAt: 2025-02-03 20:43:01 -0000 (Mon, 03 Feb 2025) EllapsedTime: 88.6 seconds RetCode: 0 Status: OK