Package: VariantTools Version: 1.48.0 Command: rm -rf VariantTools.buildbin-libdir && mkdir VariantTools.buildbin-libdir && /Users/biocbuild/BBS/utils/build-universal.sh VariantTools_1.48.0.tar.gz /Library/Frameworks/R.framework/Resources/bin/R VariantTools.buildbin-libdir StartedAt: 2025-02-05 18:14:25 -0500 (Wed, 05 Feb 2025) EndedAt: 2025-02-05 18:15:18 -0500 (Wed, 05 Feb 2025) EllapsedTime: 52.8 seconds RetCode: 0 Status: OK PackageFile: VariantTools_1.48.0.tgz PackageFileSize: 6.291 MiB