Package: VariantTools Version: 1.48.0 Command: /Library/Frameworks/R.framework/Resources/bin/R CMD build --keep-empty-dirs --no-resave-data VariantTools StartedAt: 2025-02-04 10:21:12 -0500 (Tue, 04 Feb 2025) EndedAt: 2025-02-04 10:22:47 -0500 (Tue, 04 Feb 2025) EllapsedTime: 94.9 seconds RetCode: 0 Status: OK PackageFile: VariantTools_1.48.0.tar.gz PackageFileSize: 5.968 MiB