Package: VariantTools Version: 1.48.0 Command: /Library/Frameworks/R.framework/Resources/bin/R CMD check --install=check:VariantTools.install-out.txt --library=/Library/Frameworks/R.framework/Resources/library --no-vignettes --timings VariantTools_1.48.0.tar.gz StartedAt: 2025-02-05 13:55:13 -0500 (Wed, 05 Feb 2025) EndedAt: 2025-02-05 14:02:03 -0500 (Wed, 05 Feb 2025) EllapsedTime: 410.2 seconds RetCode: 0 Status: WARNINGS CheckDir: VariantTools.Rcheck Warnings: 2