Package: VariantTools Version: 1.48.0 Command: rm -rf VariantTools.buildbin-libdir && mkdir VariantTools.buildbin-libdir && /Users/biocbuild/BBS/utils/build-universal.sh VariantTools_1.48.0.tar.gz /Library/Frameworks/R.framework/Resources/bin/R VariantTools.buildbin-libdir StartedAt: 2025-01-31 13:54:28 -0500 (Fri, 31 Jan 2025) EndedAt: 2025-01-31 13:55:59 -0500 (Fri, 31 Jan 2025) EllapsedTime: 91.1 seconds RetCode: 0 Status: OK PackageFile: VariantTools_1.48.0.tgz PackageFileSize: 6.291 MiB