Package: VariantTools Version: 1.48.0 Command: /home/biocbuild/bbs-3.20-bioc/R/bin/R CMD build --keep-empty-dirs --no-resave-data --md5 VariantTools StartedAt: 2025-02-03 19:45:19 -0500 (Mon, 03 Feb 2025) EndedAt: 2025-02-03 19:46:28 -0500 (Mon, 03 Feb 2025) EllapsedTime: 69.1 seconds RetCode: 0 Status: OK PackageFile: VariantTools_1.48.0.tar.gz PackageFileSize: 5.972 MiB