Package: VariantTools Version: 1.48.0 Command: /home/biocbuild/bbs-3.20-bioc/R/bin/R CMD check --install=check:VariantTools.install-out.txt --library=/home/biocbuild/bbs-3.20-bioc/R/site-library --timings VariantTools_1.48.0.tar.gz StartedAt: 2025-02-04 03:29:36 -0500 (Tue, 04 Feb 2025) EndedAt: 2025-02-04 03:35:31 -0500 (Tue, 04 Feb 2025) EllapsedTime: 354.4 seconds RetCode: 0 Status: WARNINGS CheckDir: VariantTools.Rcheck Warnings: 2