Package: VariantTools Version: 1.48.0 Command: /home/biocbuild/bbs-3.20-bioc/R/bin/R CMD INSTALL VariantTools StartedAt: 2025-02-03 15:34:04 -0500 (Mon, 03 Feb 2025) EndedAt: 2025-02-03 15:34:47 -0500 (Mon, 03 Feb 2025) EllapsedTime: 42.4 seconds RetCode: 0 Status: OK