Package: VariantTools Version: 1.48.0 Command: /home/biocbuild/R/R/bin/R CMD build --keep-empty-dirs --no-resave-data VariantTools StartedAt: 2025-02-04 03:47:18 -0000 (Tue, 04 Feb 2025) EndedAt: 2025-02-04 03:49:22 -0000 (Tue, 04 Feb 2025) EllapsedTime: 123.2 seconds RetCode: 0 Status: OK PackageFile: VariantTools_1.48.0.tar.gz PackageFileSize: 5.96 MiB