Package: VariantTools Version: 1.48.0 Command: /home/biocbuild/R/R/bin/R CMD check --install=check:VariantTools.install-out.txt --library=/home/biocbuild/R/R/site-library --no-vignettes --timings VariantTools_1.48.0.tar.gz StartedAt: 2025-01-31 11:23:30 -0000 (Fri, 31 Jan 2025) EndedAt: 2025-01-31 11:30:30 -0000 (Fri, 31 Jan 2025) EllapsedTime: 419.6 seconds RetCode: 0 Status: WARNINGS CheckDir: VariantTools.Rcheck Warnings: 2