Package: VariantTools Version: 1.48.0 Command: /home/biocbuild/R/R/bin/R CMD INSTALL VariantTools StartedAt: 2025-01-30 20:29:59 -0000 (Thu, 30 Jan 2025) EndedAt: 2025-01-30 20:30:51 -0000 (Thu, 30 Jan 2025) EllapsedTime: 51.6 seconds RetCode: 0 Status: OK