Package: VennDetail Version: 1.22.0 Command: /Library/Frameworks/R.framework/Resources/bin/R CMD build --keep-empty-dirs --no-resave-data VennDetail StartedAt: 2025-02-03 23:09:33 -0500 (Mon, 03 Feb 2025) EndedAt: 2025-02-03 23:10:01 -0500 (Mon, 03 Feb 2025) EllapsedTime: 28.2 seconds RetCode: 0 Status: OK PackageFile: VennDetail_1.22.0.tar.gz PackageFileSize: 526.3 KiB